BEGIN:VCALENDAR
VERSION:2.0
PRODID:-//Squarespace Inc/Squarespace 6//v6//EN
BEGIN:VEVENT
UID:537d5fa0e4b0b9e2ae513f1a@squarespace.com
DTSTAMP:20140522T022408Z
DTSTART:20140522T023000Z
DTEND:20140522T033000Z
SUMMARY:Test
END:VEVENT
END:VCALENDAR
